{"text_format":"1","workbook":"xlsx","n_sheets":5,"sheets":["Messwerte","vVektor","aVektor","Mittelwerte","t-v-Diagramm"],"not_rendered":{"charts":2,"images":0,"macros":1,"external_links":0,"defined_names":0,"comments":0,"pivot_tables":0},"unopened":[],"bounds":{"document_bytes":16777216,"sheet_cells":100000,"rows_first":2000,"rows_last":500,"rows_between":2000,"halvings":0,"cell_chars":16384,"cell_head_chars":4096},"cells_cut":0,"cells_raw":0,"read":"whole","date_system":"1900"}

{"sheet":"Messwerte","index":0,"n_rows":71,"n_cols":22,"rows_kept":71,"cut":false,"hidden":false,"merged":[]}
[]
["Spalte1","Lat Werte","Lon Werte","Höhe","Höhenänderung ∆h in m","gesamtHöhe in m","Strecke in km","Strecke in m","Streckenänderung ∆s in  m","gesamtStrecke in m","Datum/Zeit","Stunde","Minute","Sekunde","Zeitänderung ∆t in s ","gesamtZeit in s","Tempo in m/s","Beschleunigung in m/s²","Ortsänderung ∆x in m","Ortsänderung ∆y in m2","x in m","y in m"]
[1,50.252524299999997,9.2903915500000007,201.32,null,null,null,null,null,null,"2023-04-10T08:25:46",{"$f":"IF(ISBLANK($K3),\"\",HOUR($K3))","v":8},{"$f":"IF(ISBLANK($K3),\"\",MINUTE($K3))","v":25},{"$f":"IF(ISBLANK($K3),\"\",SECOND($K3))","v":46},null,null,null,null,null,null,{"$f":"71500*(C3-C$3)","v":0},{"$f":"111300*(B3-B$3)","v":0}]
[2,50.252524080000001,9.2903923499999994,201.27,{"$f":"IF(ISBLANK($D4),\"\",$D4-$D3)","v":-4.9999999999982947E-2},{"$f":"IF(ISBLANK($D4),\"\",$D4-$D$3)","v":-4.9999999999982947E-2},{"$f":"IF(ISBLANK($B4),\"\",6371*ACOS(SIN(RADIANS($B3))*SIN(RADIANS($B4))+COS(RADIANS($B3))*COS(RADIANS($B4))*COS(RADIANS($C4-$C3))))","v":0},{"$f":"IF(ISBLANK($G4),\"\",$G4*1000)","v":0},{"$f":"IF(ISBLANK($H4),\"\",$H4-$H3)","v":0},{"$f":"SUM($H$3:$H4)","v":0},"2023-04-10T08:25:47",{"$f":"IF(ISBLANK($K4),\"\",HOUR($K4))","v":8},{"$f":"IF(ISBLANK($K4),\"\",MINUTE($K4))","v":25},{"$f":"IF(ISBLANK($K4),\"\",SECOND($K4))","v":47},{"$f":"($L4*3600+$M4*60+$N4)-($L3*3600+$M3*60+$N3)","v":1},{"$f":"IF(ISBLANK($O4),\"\",SUM($O$3:$O4))","v":1},{"$f":"$H4/$O4","v":0},null,{"$f":"ROUND(IF(ISBLANK($B4),\"\",(71.5*($C4-$C3))*1000),2)","v":0.06},{"$f":"ROUND(IF(ISBLANK($C4),\"\",(111.3*($B4-$B3))*1000),2)","v":-0.02},{"$f":"71500*(C4-C$3)","v":5.7199999906387688E-2},{"$f":"111300*(B4-B$3)","v":-2.448599965347853E-2}]
[3,50.252529000000003,9.2903867899999995,201.27,{"$f":"IF(ISBLANK($D5),\"\",$D5-$D4)","v":0},{"$f":"IF(ISBLANK($D5),\"\",$D5-$D$3)","v":-4.9999999999982947E-2},{"$f":"IF(ISBLANK($B5),\"\",6371*ACOS(SIN(RADIANS($B4))*SIN(RADIANS($B5))+COS(RADIANS($B4))*COS(RADIANS($B5))*COS(RADIANS($C5-$C4))))","v":6.7129392948572786E-4},{"$f":"IF(ISBLANK($G5),\"\",$G5*1000)","v":0.67129392948572786},{"$f":"IF(ISBLANK($H5),\"\",$H5-$H4)","v":0.67129392948572786},{"$f":"SUM($H$3:$H5)","v":0.67129392948572786},"2023-04-10T08:25:48",8,25,48,{"$f":"($L5*3600+$M5*60+$N5)-($L4*3600+$M4*60+$N4)","v":1},{"$f":"IF(ISBLANK($O5),\"\",SUM($O$3:$O5))","v":2},{"$f":"$H5/$O5","v":0.67129392948572786},{"$f":"($Q5-$Q4)/$O5","v":0.67129392948572786},{"$f":"ROUND(IF(ISBLANK($B5),\"\",(71.5*($C5-$C4))*1000),2)","v":-0.4},{"$f":"ROUND(IF(ISBLANK($C5),\"\",(111.3*($B5-$B4))*1000),2)","v":0.55000000000000004},-0.34034000009075527,0.52311000057727597]
[4,50.252535860000002,9.2903722999999996,201.25,-2.0000000000010232E-2,-6.9999999999993179E-2,1.2807471897939848E-3,1.2807471897939848,{"$f":"IF(ISBLANK($H6),\"\",$H6-$H5)","v":0.60945326030825697},{"$f":"SUM($H$3:$H6)","v":1.9520411192797127},"2023-04-10T08:25:49",8,25,49,1,{"$f":"IF(ISBLANK($O6),\"\",SUM($O$3:$O6))","v":3},{"$f":"$H6/$O6","v":1.2807471897939848},{"$f":"($Q6-$Q5)/$O6","v":0.60945326030825697},-1.04,0.76,-1.3763750000812536,1.2866280004843134]
[5,50.252542230000003,9.2903470400000003,201.46,0.21000000000000796,0.14000000000001478,1.9269760886857501E-3,1.9269760886857501,0.64622889889176527,{"$f":"SUM($H$3:$H7)","v":3.8790172079654628},"2023-04-10T08:25:50",8,25,50,1,{"$f":"IF(ISBLANK($O7),\"\",SUM($O$3:$O7))","v":4},1.9269760886857501,0.64622889889176527,-1.81,0.71,-3.1824650000276122,1.9956090006239435]
[6,50.252548730000001,9.2903202,201.68,0.21999999999999886,0.36000000000001364,2.040556881622857E-3,2.040556881622857,0.11358079293710688,{"$f":"SUM($H$3:$H8)","v":5.9195740895883198},"2023-04-10T08:25:51",8,25,51,1,{"$f":"IF(ISBLANK($O8),\"\",SUM($O$3:$O8))","v":5},2.040556881622857,0.11358079293710688,-1.92,0.72,-5.1015250000494561,2.719059000379076]
[7,50.252548670000003,9.29029317,201.36,-0.31999999999999318,4.0000000000020464E-2,1.9222932731508546E-3,1.9222932731508546,-0.11826360847200235,{"$f":"SUM($H$3:$H9)","v":7.8418673627391744},"2023-04-10T08:25:52",8,25,52,1,{"$f":"IF(ISBLANK($O9),\"\",SUM($O$3:$O9))","v":6},1.9222932731508546,-0.11826360847200235,-1.93,-0.01,-7.0341700000522422,2.7123810006173699]
[8,50.252546369999997,9.2902729999999991,201.24,-0.12000000000000455,-7.9999999999984084E-2,1.4553305589268817E-3,1.4553305589268817,-0.46696271422397295,{"$f":"SUM($H$3:$H10)","v":9.2971979216660561},"2023-04-10T08:25:53",8,25,53,1,{"$f":"IF(ISBLANK($O10),\"\",SUM($O$3:$O10))","v":7},1.4553305589268817,-0.46696271422397295,-1.44,-0.26,-8.4763250001147483,2.456390999998348]
[9,50.252543379999999,9.2902475399999993,201.27,3.0000000000001137E-2,-4.9999999999982947E-2,1.8408637267348649E-3,1.8408637267348649,0.38553316780798319,{"$f":"SUM($H$3:$H11)","v":11.138061648400921},"2023-04-10T08:25:54",8,25,54,1,{"$f":"IF(ISBLANK($O11),\"\",SUM($O$3:$O11))","v":8},1.8408637267348649,0.38553316780798319,-1.82,-0.33,-10.296715000101209,2.1236040001426204]
[10,50.252535979999998,9.2902243099999993,201.21,-6.0000000000002274E-2,-0.10999999999998522,1.8457531471001154E-3,1.8457531471001154,4.8894203652505297E-3,{"$f":"SUM($H$3:$H12)","v":12.983814795501036},"2023-04-10T08:25:55",8,25,55,1,{"$f":"IF(ISBLANK($O12),\"\",SUM($O$3:$O12))","v":9},1.8457531471001154,4.8894203652505297E-3,-1.66,-0.82,-11.95766000010412,1.2999840000077256]
[11,50.252531980000001,9.2902066100000003,201.15,-6.0000000000002274E-2,-0.16999999999998749,1.3358580532463193E-3,1.3358580532463193,-0.50989509385379606,{"$f":"SUM($H$3:$H13)","v":14.319672848747356},"2023-04-10T08:25:56",8,25,56,1,{"$f":"IF(ISBLANK($O13),\"\",SUM($O$3:$O13))","v":10},1.3358580532463193,-0.50989509385379606,-1.27,-0.45,-13.223210000033347,0.85478400034091351]
[12,50.252527309999998,9.2901884500000005,201.11,-3.9999999999992042E-2,-0.20999999999997954,1.3952582314233908E-3,1.3952582314233908,5.9400178177071439E-2,{"$f":"SUM($H$3:$H14)","v":15.714931080170746},"2023-04-10T08:25:57",8,25,57,1,{"$f":"IF(ISBLANK($O14),\"\",SUM($O$3:$O14))","v":11},1.3952582314233908,5.9400178177071439E-2,-1.3,-0.52,-14.521650000016706,0.33501300003990764]
[13,50.252516780000001,9.2901703300000005,201.13,1.999999999998181E-2,-0.18999999999999773,1.7401927557427754E-3,1.7401927557427754,0.34493452431938465,{"$f":"SUM($H$3:$H15)","v":17.455123835913522},"2023-04-10T08:25:58",8,25,58,1,{"$f":"IF(ISBLANK($O15),\"\",SUM($O$3:$O15))","v":12},1.7401927557427754,0.34493452431938465,-1.3,-1.17,-15.817230000017446,-0.83697599965830705]
[14,50.252507940000001,9.2901521599999999,201.13,0,-0.18999999999999773,1.6222550817501791E-3,1.6222550817501791,-0.11793767399259636,{"$f":"SUM($H$3:$H16)","v":19.077378917663701},"2023-04-10T08:25:59",8,25,59,1,{"$f":"IF(ISBLANK($O16),\"\",SUM($O$3:$O16))","v":13},1.6222550817501791,-0.11793767399259636,-1.3,-0.98,-17.116385000059964,-1.8208679996099875]
[15,50.252498150000001,9.2901391699999998,201.09,-3.9999999999992042E-2,-0.22999999999998977,1.4271904709111105E-3,1.4271904709111105,-0.19506461083906856,{"$f":"SUM($H$3:$H17)","v":20.504569388574811},"2023-04-10T08:26:00",8,26,0,1,{"$f":"IF(ISBLANK($O17),\"\",SUM($O$3:$O17))","v":14},1.4271904709111105,-0.19506461083906856,-0.93,-1.0900000000000001,-18.045170000067223,-2.9104949996110463]
[16,50.252488419999999,9.2901248800000005,201.04,-5.0000000000011369E-2,-0.28000000000000114,1.4859724571962829E-3,1.4859724571962829,5.8781986285172394E-2,{"$f":"SUM($H$3:$H18)","v":21.990541845771094},"2023-04-10T08:26:01",8,26,1,1,{"$f":"IF(ISBLANK($O18),\"\",SUM($O$3:$O18))","v":15},1.4859724571962829,5.8781986285172394E-2,-1.02,-1.08,-19.06690500001762,-3.993443999850399]
[17,50.252477720000002,9.29011195,201,-3.9999999999992042E-2,-0.31999999999999318,1.501058859409321E-3,1.501058859409321,1.5086402213038141E-2,{"$f":"SUM($H$3:$H19)","v":23.491600705180417},"2023-04-10T08:26:02",8,26,2,1,{"$f":"IF(ISBLANK($O19),\"\",SUM($O$3:$O19))","v":16},1.501058859409321,1.5086402213038141E-2,-0.92,-1.19,-19.991400000050952,-5.1843539995324761]
[18,50.252467230000001,9.2901033900000005,200.93,-6.9999999999993179E-2,-0.38999999999998636,1.3188833091679619E-3,1.3188833091679619,-0.18217555024135912,{"$f":"SUM($H$3:$H20)","v":24.810484014348379},"2023-04-10T08:26:03",8,26,3,1,{"$f":"IF(ISBLANK($O20),\"\",SUM($O$3:$O20))","v":17},1.3188833091679619,-0.18217555024135912,-0.61,-1.17,-20.603440000014572,-6.3518909996531647]
[19,50.252452239999997,9.2900940900000002,200.94,9.9999999999909051E-3,-0.37999999999999545,1.7912356187916867E-3,1.7912356187916867,0.47235230962372476,{"$f":"SUM($H$3:$H21)","v":26.601719633140064},"2023-04-10T08:26:04",8,26,4,1,{"$f":"IF(ISBLANK($O21),\"\",SUM($O$3:$O21))","v":18},1.7912356187916867,0.47235230962372476,-0.66,-1.67,-21.268390000037662,-8.0202780000909968]
[20,50.252439019999997,9.2900885100000004,200.9,-3.9999999999992042E-2,-0.41999999999998749,1.5189647674560547E-3,1.5189647674560547,-0.272270851335632,{"$f":"SUM($H$3:$H22)","v":28.120684400596119},"2023-04-10T08:26:05",8,26,5,1,{"$f":"IF(ISBLANK($O22),\"\",SUM($O$3:$O22))","v":19},1.5189647674560547,-0.272270851335632,-0.4,-1.47,-21.667360000026115,-9.4916640000455743]
[21,50.25242618,9.2900813099999997,200.9,0,-0.41999999999998749,1.5130196772830118E-3,1.5130196772830118,-5.9450901730428996E-3,{"$f":"SUM($H$3:$H23)","v":29.633704077879131},"2023-04-10T08:26:06",8,26,6,1,{"$f":"IF(ISBLANK($O23),\"\",SUM($O$3:$O23))","v":20},1.5130196772830118,-5.9450901730428996E-3,-0.51,-1.43,-22.18216000007267,-10.920755999664067]
[22,50.252412380000003,9.2900781200000004,200.9,0,-0.41999999999998749,1.548347852726506E-3,1.548347852726506,3.5328175443494203E-2,{"$f":"SUM($H$3:$H24)","v":31.182051930605638},"2023-04-10T08:26:07",8,26,7,1,{"$f":"IF(ISBLANK($O24),\"\",SUM($O$3:$O24))","v":21},1.548347852726506,3.5328175443494203E-2,-0.23,-1.54,-22.41024500002009,-12.456695999424028]
[23,50.252398579999998,9.2900767599999998,200.86,-3.9999999999992042E-2,-0.45999999999997954,1.5366620406551679E-3,1.5366620406551679,-1.168581207133812E-2,{"$f":"SUM($H$3:$H25)","v":32.718713971260804},"2023-04-10T08:26:08",8,26,8,1,{"$f":"IF(ISBLANK($O25),\"\",SUM($O$3:$O25))","v":22},1.5366620406551679,-1.168581207133812E-2,-0.1,-1.54,-22.507485000064165,-13.992635999974823]
[24,50.252384790000001,9.2900851699999993,201.09,0.22999999999998977,-0.22999999999998977,1.6443275952828795E-3,1.6443275952828795,0.10766555462771166,{"$f":"SUM($H$3:$H26)","v":34.363041566543686},"2023-04-10T08:26:09",8,26,9,1,{"$f":"IF(ISBLANK($O26),\"\",SUM($O$3:$O26))","v":23},1.6443275952828795,0.10766555462771166,0.6,-1.53,-21.906170000098868,-15.527462999642694]
[25,50.252369809999998,9.2900899599999995,201.11,2.0000000000010232E-2,-0.20999999999997954,1.6982542371999365E-3,1.6982542371999365,5.3926641917056983E-2,{"$f":"SUM($H$3:$H27)","v":36.061295803743619},"2023-04-10T08:26:10",8,26,10,1,{"$f":"IF(ISBLANK($O27),\"\",SUM($O$3:$O27))","v":24},1.6982542371999365,5.3926641917056983E-2,0.34,-1.67,-21.563685000084654,-17.194736999988436]
[26,50.252356480000003,9.2900966900000004,201.18,6.9999999999993179E-2,-0.13999999999998636,1.5599461250777047E-3,1.5599461250777047,-0.13830811212223182,{"$f":"SUM($H$3:$H28)","v":37.62124192882132},"2023-04-10T08:26:11",8,26,11,1,{"$f":"IF(ISBLANK($O28),\"\",SUM($O$3:$O28))","v":25},1.5599461250777047,-0.13830811212223182,0.48,-1.48,-21.082490000024379,-18.678365999374336]
[27,50.25234494,9.2901064200000008,201.2,1.999999999998181E-2,-0.12000000000000455,1.4584237195758298E-3,1.4584237195758298,-0.10152240550187486,{"$f":"SUM($H$3:$H29)","v":39.079665648397153},"2023-04-10T08:26:12",8,26,12,1,{"$f":"IF(ISBLANK($O29),\"\",SUM($O$3:$O29))","v":26},1.4584237195758298,-0.10152240550187486,0.7,-1.28,-20.386794999997626,-19.962767999674469]
[28,50.252331939999998,9.2901159900000003,201.19,-9.9999999999909051E-3,-0.12999999999999545,1.5998780783594846E-3,1.5998780783594846,0.14145435878365475,{"$f":"SUM($H$3:$H30)","v":40.679543726756634},"2023-04-10T08:26:13",8,26,13,1,{"$f":"IF(ISBLANK($O30),\"\",SUM($O$3:$O30))","v":27},1.5998780783594846,0.14145435878365475,0.68,-1.45,-19.702540000028357,-21.409667999975568]
[29,50.252320509999997,9.2901292400000006,201.17,-2.0000000000010232E-2,-0.15000000000000568,1.5828877406363073E-3,1.5828877406363073,-1.6990337723177262E-2,{"$f":"SUM($H$3:$H31)","v":42.262431467392943},"2023-04-10T08:26:14",8,26,14,1,{"$f":"IF(ISBLANK($O31),\"\",SUM($O$3:$O31))","v":28},1.5828877406363073,-1.6990337723177262E-2,0.95,-1.27,-18.755165000007068,-22.681827000053545]
[30,50.252308859999999,9.2901443799999992,201.3,0.13000000000002387,-1.999999999998181E-2,1.6849343899627556E-3,1.6849343899627556,0.10204664932644825,{"$f":"SUM($H$3:$H32)","v":43.947365857355699},"2023-04-10T08:26:15",8,26,15,1,{"$f":"IF(ISBLANK($O32),\"\",SUM($O$3:$O32))","v":29},1.6849343899627556,0.10204664932644825,1.08,-1.3,-17.672655000108506,-23.978471999785]
[31,50.252297130000002,9.2901609999999994,201.23,-7.00000000000216E-2,-9.0000000000003411E-2,1.7607874704628212E-3,1.7607874704628212,7.5853080500065673E-2,{"$f":"SUM($H$3:$H33)","v":45.708153327818522},"2023-04-10T08:26:16",8,26,16,1,{"$f":"IF(ISBLANK($O33),\"\",SUM($O$3:$O33))","v":30},1.7607874704628212,7.5853080500065673E-2,1.19,-1.31,-16.484325000091005,-25.284020999462342]
[32,50.252287680000002,9.2901792899999993,201.24,1.0000000000019327E-2,-7.9999999999984084E-2,1.6715084046521334E-3,1.6715084046521334,-8.9279065810687896E-2,{"$f":"SUM($H$3:$H34)","v":47.379661732470652},"2023-04-10T08:26:17",8,26,17,1,{"$f":"IF(ISBLANK($O34),\"\",SUM($O$3:$O34))","v":31},1.6715084046521334,-8.9279065810687896E-2,1.31,-1.05,-15.176590000100632,-26.335805999495676]
[33,50.252281670000002,9.2901980399999999,201.32,7.9999999999984084E-2,0,1.489001965840453E-3,1.489001965840453,-0.18250643881168038,{"$f":"SUM($H$3:$H35)","v":48.868663698311103},"2023-04-10T08:26:18",8,26,18,1,{"$f":"IF(ISBLANK($O35),\"\",SUM($O$3:$O35))","v":32},1.489001965840453,-0.18250643881168038,1.34,-0.67,{"$f":"71500*(C35-C$3)","v":-13.835965000056127},{"$f":"111300*(B35-B$3)","v":-27.004718999483401}]
[34,50.25227538,9.29021732,201.51,0.18999999999999773,0.18999999999999773,1.5395918096705596E-3,1.5395918096705596,5.0589843830106673E-2,{"$f":"SUM($H$3:$H36)","v":50.408255507981664},"2023-04-10T08:26:19",8,26,19,1,{"$f":"IF(ISBLANK($O36),\"\",SUM($O$3:$O36))","v":33},1.5395918096705596,5.0589843830106673E-2,1.38,-0.7,-12.457445000051415,-27.704795999677145]
[35,50.252267879999998,9.2902353499999997,201.48,-3.0000000000001137E-2,0.15999999999999659,1.5307856824813282E-3,1.5307856824813282,-8.8061271892314608E-3,{"$f":"SUM($H$3:$H37)","v":51.939041190462994},"2023-04-10T08:26:20",8,26,20,1,{"$f":"IF(ISBLANK($O37),\"\",SUM($O$3:$O37))","v":34},1.5307856824813282,-8.8061271892314608E-3,1.29,-0.83,-11.168300000075071,-28.539545999942106]
[36,50.252263839999998,9.2902552400000005,201.45,{"$f":"IF(ISBLANK($D38),\"\",$D38-$D37)","v":-3.0000000000001137E-2},0.12999999999999545,{"$f":"IF(ISBLANK($B38),\"\",6371*ACOS(SIN(RADIANS($B37))*SIN(RADIANS($B38))+COS(RADIANS($B37))*COS(RADIANS($B38))*COS(RADIANS($C38-$C37))))","v":1.4829367594750842E-3},1.4829367594750842,{"$f":"IF(ISBLANK($H38),\"\",$H38-$H37)","v":-4.7848923006243993E-2},{"$f":"SUM($H$3:$H38)","v":53.421977949938082},"2023-04-10T08:26:21",8,26,21,{"$f":"($L38*3600+$M38*60+$N38)-($L37*3600+$M37*60+$N37)","v":1},{"$f":"IF(ISBLANK($O38),\"\",SUM($O$3:$O38))","v":35},1.4829367594750842,{"$f":"($Q38-$Q37)/$O38","v":-4.7848923006243993E-2},1.42,-0.45,-9.7461650000179034,-28.989197999977279]
[37,50.252262139999999,9.2902774299999997,201.43,-1.999999999998181E-2,0.11000000000001364,1.5914055841541597E-3,1.5914055841541597,0.10846882467907548,{"$f":"SUM($H$3:$H39)","v":55.013383534092242},"2023-04-10T08:26:22",8,26,22,1,{"$f":"IF(ISBLANK($O39),\"\",SUM($O$3:$O39))","v":36},1.5914055841541597,0.10846882467907548,1.59,-0.19,-8.1595800000711094,-29.178407999815903]
[38,50.252260890000002,9.2902990400000007,201.37,-6.0000000000002274E-2,5.0000000000011369E-2,1.5425160134678872E-3,1.5425160134678872,-4.8889570686272421E-2,{"$f":"SUM($H$3:$H40)","v":56.555899547560131},"2023-04-10T08:26:23",8,26,23,1,{"$f":"IF(ISBLANK($O40),\"\",SUM($O$3:$O40))","v":37},1.5425160134678872,-4.8889570686272421E-2,1.55,-0.14000000000000001,-6.6144649999992922,-29.317532999464646]
[39,50.252260489999998,9.2903206199999993,201.31,-6.0000000000002274E-2,-9.9999999999909051E-3,1.5366620406551679E-3,1.5366620406551679,-5.8539728127193769E-3,{"$f":"SUM($H$3:$H41)","v":58.092561588215297},"2023-04-10T08:26:24",8,26,24,1,{"$f":"IF(ISBLANK($O41),\"\",SUM($O$3:$O41))","v":38},1.5366620406551679,-5.8539728127193769E-3,1.54,-0.04,-5.071495000104953,-29.362052999984911]
[40,50.252261709999999,9.2903429600000003,201.33,2.0000000000010232E-2,1.0000000000019327E-2,1.5942347520212508E-3,1.5942347520212508,5.7572711366082885E-2,{"$f":"SUM($H$3:$H42)","v":59.686796340236548},"2023-04-10T08:26:25",8,26,25,1,{"$f":"IF(ISBLANK($O42),\"\",SUM($O$3:$O42))","v":39},1.5942347520212508,5.7572711366082885E-2,1.6,0.14000000000000001,-3.4741850000328256,-29.226266999821604]
[41,50.252265469999998,9.2903616200000005,201.24,-9.0000000000003411E-2,-7.9999999999984084E-2,1.392024719483187E-3,1.392024719483187,-0.2022100325380638,{"$f":"SUM($H$3:$H43)","v":61.078821059719736},"2023-04-10T08:26:26",8,26,26,1,{"$f":"IF(ISBLANK($O43),\"\",SUM($O$3:$O43))","v":40},1.392024719483187,-0.2022100325380638,1.33,0.42,-2.1399950000127177,-28.807778999992451]
[42,50.252269480000002,9.2903819199999997,201.21,-3.0000000000001137E-2,-0.10999999999998522,1.5130196772830118E-3,1.5130196772830118,0.12099495779982483,{"$f":"SUM($H$3:$H44)","v":62.591840737002748},"2023-04-10T08:26:27",8,26,27,1,{"$f":"IF(ISBLANK($O44),\"\",SUM($O$3:$O44))","v":41},1.5130196772830118,0.12099495779982483,1.45,0.45,-0.68854500007020647,-28.361465999442714]
[43,50.252275449999999,9.2904005200000004,201.2,-1.0000000000019327E-2,-0.12000000000000455,1.4768466454344598E-3,1.4768466454344598,-3.6173031848552029E-2,{"$f":"SUM($H$3:$H45)","v":64.068687382437204},"2023-04-10T08:26:28",8,26,28,1,{"$f":"IF(ISBLANK($O45),\"\",SUM($O$3:$O45))","v":42},1.4768466454344598,-3.6173031848552029E-2,1.33,0.66,0.64135499997597378,-27.697004999823349]
[44,50.252283560000002,9.2904182199999994,201.32,0.12000000000000455,0,1.548347852726506E-3,1.548347852726506,7.1501207292046232E-2,{"$f":"SUM($H$3:$H46)","v":65.617035235163712},"2023-04-10T08:26:29",8,26,29,1,{"$f":"IF(ISBLANK($O46),\"\",SUM($O$3:$O46))","v":43},1.548347852726506,7.1501207292046232E-2,1.27,0.9,1.9069049999052012,-26.794361999476735]
[45,50.252291960000001,9.2904355499999998,201.32,0,0,1.5454346831693666E-3,1.5454346831693666,-2.9131695571393834E-3,{"$f":"SUM($H$3:$H47)","v":67.162469918333073},"2023-04-10T08:26:30",8,26,30,1,{"$f":"IF(ISBLANK($O47),\"\",SUM($O$3:$O47))","v":44},1.5454346831693666,-2.9131695571393834E-3,1.24,0.93,3.1459999999317034,-25.859441999622845]
[46,50.252302360000002,9.2904499299999994,201.22,-9.9999999999994316E-2,-9.9999999999994316E-2,1.5425160134678872E-3,1.5425160134678872,-2.9186697014793594E-3,{"$f":"SUM($H$3:$H48)","v":68.704985931800962},"2023-04-10T08:26:31",8,26,31,1,{"$f":"IF(ISBLANK($O48),\"\",SUM($O$3:$O48))","v":45},1.5425160134678872,-2.9186697014793594E-3,1.03,1.1599999999999999,4.1741699999064963,-24.701921999540133]
[47,50.252313180000002,9.2904659699999996,201.28,6.0000000000002274E-2,-3.9999999999992042E-2,1.6606894665389671E-3,1.6606894665389671,0.11817345307107985,{"$f":"SUM($H$3:$H49)","v":70.365675398339931},"2023-04-10T08:26:32",8,26,32,1,{"$f":"IF(ISBLANK($O49),\"\",SUM($O$3:$O49))","v":46},1.6606894665389671,0.11817345307107985,1.1499999999999999,1.2,5.3210299999220112,-23.497655999543809]
[48,50.252325390000003,9.2904776800000004,201.15,-0.12999999999999545,-0.16999999999998749,1.5942347520212508E-3,1.5942347520212508,-6.645471451771634E-2,{"$f":"SUM($H$3:$H50)","v":71.959910150361182},"2023-04-10T08:26:33",8,26,33,1,{"$f":"IF(ISBLANK($O50),\"\",SUM($O$3:$O50))","v":47},1.5942347520212508,-6.645471451771634E-2,0.84,1.36,6.1582949999774428,-22.138682999400316]
[49,50.252338049999999,9.2904891299999992,201.12,-3.0000000000001137E-2,-0.19999999999998863,1.6278012699939559E-3,1.6278012699939559,3.3566517972705157E-2,{"$f":"SUM($H$3:$H51)","v":73.587711420355134},"2023-04-10T08:26:34",8,26,34,1,{"$f":"IF(ISBLANK($O51),\"\",SUM($O$3:$O51))","v":48},1.6278012699939559,3.3566517972705157E-2,0.82,1.41,6.9769699998918355,-20.729624999857776]
[50,50.252351220000001,9.2904989699999998,201.19,6.9999999999993179E-2,-0.12999999999999545,1.6222550817501791E-3,1.6222550817501791,-5.5461882437768395E-3,{"$f":"SUM($H$3:$H52)","v":75.209966502105317},"2023-04-10T08:26:35",8,26,35,1,{"$f":"IF(ISBLANK($O52),\"\",SUM($O$3:$O52))","v":49},1.6222550817501791,-5.5461882437768395E-3,0.7,1.47,7.6805299999342935,-19.263803999572815]
[51,50.252364489999998,9.2905045899999994,201.21,2.0000000000010232E-2,-0.10999999999998522,1.5278390282491561E-3,1.5278390282491561,-9.4416053501023001E-2,{"$f":"SUM($H$3:$H53)","v":76.737805530354478},"2023-04-10T08:26:36",8,26,36,1,{"$f":"IF(ISBLANK($O53),\"\",SUM($O$3:$O53))","v":50},1.5278390282491561,-9.4416053501023001E-2,0.4,1.48,8.0823599999053641,-17.786852999948621]
[52,50.252377969999998,9.2905095400000004,201.19,-2.0000000000010232E-2,-0.12999999999999545,1.5395918096705596E-3,1.5395918096705596,1.1752781421403569E-2,{"$f":"SUM($H$3:$H54)","v":78.277397340025033},"2023-04-10T08:26:37",8,26,37,1,{"$f":"IF(ISBLANK($O54),\"\",SUM($O$3:$O54))","v":51},1.5395918096705596,1.1752781421403569E-2,0.35,1.5,8.4362849999770617,-16.286528999972205]
[53,50.252390750000004,9.2905130099999997,201.39,0.19999999999998863,6.9999999999993179E-2,1.4428916090354349E-3,1.4428916090354349,-9.6700200635124745E-2,{"$f":"SUM($H$3:$H55)","v":79.72028894906046},"2023-04-10T08:26:38",8,26,38,1,{"$f":"IF(ISBLANK($O55),\"\",SUM($O$3:$O55))","v":52},1.4428916090354349,-9.6700200635124745E-2,0.25,1.42,8.6843899999298202,-14.864114999324585]
[54,50.252404759999997,9.2905132600000009,201.3,-8.9999999999974989E-2,-1.999999999998181E-2,1.5570546561929355E-3,1.5570546561929355,0.11416304715750059,{"$f":"SUM($H$3:$H56)","v":81.277343605253392},"2023-04-10T08:26:39",8,26,39,1,{"$f":"IF(ISBLANK($O56),\"\",SUM($O$3:$O56))","v":53},1.5570546561929355,0.11416304715750059,0.02,1.56,8.7022650000116997,-13.304802000003235]
[55,50.252418810000002,9.2905111199999997,201.29,-1.0000000000019327E-2,-3.0000000000001137E-2,1.5714588000179663E-3,1.5714588000179663,1.4404143825030857E-2,{"$f":"SUM($H$3:$H57)","v":82.848802405271357},"2023-04-10T08:26:40",8,26,40,1,{"$f":"IF(ISBLANK($O57),\"\",SUM($O$3:$O57))","v":54},1.5714588000179663,1.4404143825030857E-2,-0.15,1.56,8.5492549999255374,-11.741036999522692]
[56,50.252432319999997,9.2905084500000008,201.37,8.0000000000012506E-2,5.0000000000011369E-2,1.5130196772830118E-3,1.5130196772830118,-5.8439122734954552E-2,{"$f":"SUM($H$3:$H58)","v":84.361822082554369},"2023-04-10T08:26:41",8,26,41,1,{"$f":"IF(ISBLANK($O58),\"\",SUM($O$3:$O58))","v":55},1.5130196772830118,-5.8439122734954552E-2,-0.19,1.5,8.3583500000061761,-10.237374000060839]
[57,50.252445569999999,9.2905027199999992,201.28,-9.0000000000003411E-2,-3.9999999999992042E-2,1.5278390282491561E-3,1.5278390282491561,1.4819350966144285E-2,{"$f":"SUM($H$3:$H59)","v":85.88966111080353},"2023-04-10T08:26:42",8,26,42,1,{"$f":"IF(ISBLANK($O59),\"\",SUM($O$3:$O59))","v":56},1.5278390282491561,1.4819350966144285E-2,-0.41,1.47,7.9486549998923905,-8.7626489998299917]
[58,50.252458349999998,9.2904953799999994,201.22,-6.0000000000002274E-2,-9.9999999999994316E-2,1.5130196772830118E-3,1.5130196772830118,-1.4819350966144285E-2,{"$f":"SUM($H$3:$H60)","v":87.402680788086542},"2023-04-10T08:26:43",8,26,43,1,{"$f":"IF(ISBLANK($O60),\"\",SUM($O$3:$O60))","v":57},1.5130196772830118,-1.4819350966144285E-2,-0.52,1.42,7.4238449999066702,-7.3402349999732053]
[59,50.252471880000002,9.2904851900000001,201.16,-6.0000000000002274E-2,-0.15999999999999659,1.6715084046521334E-3,1.6715084046521334,0.15848872736912156,{"$f":"SUM($H$3:$H61)","v":89.074189192738672},"2023-04-10T08:26:44",8,26,44,1,{"$f":"IF(ISBLANK($O61),\"\",SUM($O$3:$O61))","v":58},1.6715084046521334,0.15848872736912156,-0.73,1.51,6.6952599999527962,-5.8343459995363389]
[60,50.25248491,9.2904737300000004,201.24,8.0000000000012506E-2,-7.9999999999984084E-2,1.663400797208725E-3,1.663400797208725,-8.1076074434083267E-3,{"$f":"SUM($H$3:$H62)","v":90.737589989947395},"2023-04-10T08:26:45",8,26,45,1,{"$f":"IF(ISBLANK($O62),\"\",SUM($O$3:$O62))","v":59},1.663400797208725,-8.1076074434083267E-3,-0.82,1.45,5.8758699999792441,-4.3841069997498039]
[61,50.252496039999997,9.2904599700000006,201.19,-5.0000000000011369E-2,-0.12999999999999545,1.5771836227078673E-3,1.5771836227078673,-8.6217174500857752E-2,{"$f":"SUM($H$3:$H63)","v":92.314773612655259},"2023-04-10T08:26:46",8,26,46,1,{"$f":"IF(ISBLANK($O63),\"\",SUM($O$3:$O63))","v":60},1.5771836227078673,-8.6217174500857752E-2,-0.98,1.24,4.892029999989056,-3.1453380000620257]
[62,50.252506410000002,9.2904448500000001,201.13,-6.0000000000002274E-2,-0.18999999999999773,1.5771836227078673E-3,1.5771836227078673,0,{"$f":"SUM($H$3:$H64)","v":93.891957235363122},"2023-04-10T08:26:47",8,26,47,1,{"$f":"IF(ISBLANK($O64),\"\",SUM($O$3:$O64))","v":61},1.5771836227078673,0,-1.08,1.1499999999999999,3.8109499999547936,-1.9911569994647493]
[63,50.252515420000002,9.2904282699999996,200.99,-0.13999999999998636,-0.32999999999998408,1.548347852726506E-3,1.548347852726506,-2.8835769981361281E-2,{"$f":"SUM($H$3:$H65)","v":95.44030508808963},"2023-04-10T08:26:48",8,26,48,1,{"$f":"IF(ISBLANK($O65),\"\",SUM($O$3:$O65))","v":62},1.548347852726506,-2.8835769981361281E-2,-1.19,1,2.6254799999199108,-0.98834399952920649]
[64,50.252523019999998,9.2904097599999993,200.96,-3.0000000000001137E-2,-0.35999999999998522,1.5657130433939237E-3,1.5657130433939237,1.7365190667417707E-2,{"$f":"SUM($H$3:$H66)","v":97.006018131483557},"2023-04-10T08:26:49",8,26,49,1,{"$f":"IF(ISBLANK($O66),\"\",SUM($O$3:$O66))","v":63},1.5657130433939237,1.7365190667417707E-2,-1.32,0.85,1.3020149998981267,-0.14246399992501324]
[65,50.252529780000003,9.2903911099999998,201.06,9.9999999999994316E-2,-0.25999999999999091,1.5248866800661176E-3,1.5248866800661176,-4.0826363327806092E-2,{"$f":"SUM($H$3:$H67)","v":98.530904811549675},"2023-04-10T08:26:50",8,26,50,1,{"$f":"IF(ISBLANK($O67),\"\",SUM($O$3:$O67))","v":64},1.5248866800661176,-4.0826363327806092E-2,-1.33,0.75,-3.1460000062821791E-2,0.60992400064279195]
[66,50.252534500000003,9.2903726899999999,201.09,3.0000000000001137E-2,-0.22999999999998977,1.4081180258209702E-3,1.4081180258209702,-0.11676865424514737,{"$f":"SUM($H$3:$H68)","v":99.939022837370644},"2023-04-10T08:26:51",{"$f":"IF(ISBLANK($K68),\"\",HOUR($K68))","v":8},{"$f":"IF(ISBLANK($K68),\"\",MINUTE($K68))","v":26},{"$f":"IF(ISBLANK($K68),\"\",SECOND($K68))","v":51},1,{"$f":"IF(ISBLANK($O68),\"\",SUM($O$3:$O68))","v":65},1.4081180258209702,-0.11676865424514737,-1.32,0.53,-1.3484900000602096,1.1352600006134139]
[67,50.2525397,9.2903571100000004,201.09,{"$f":"IF(ISBLANK($D69),\"\",$D69-$D68)","v":0},{"$f":"IF(ISBLANK($D69),\"\",$D69-$D$3)","v":-0.22999999999998977},{"$f":"IF(ISBLANK($B69),\"\",6371*ACOS(SIN(RADIANS($B68))*SIN(RADIANS($B69))+COS(RADIANS($B68))*COS(RADIANS($B69))*COS(RADIANS($C69-$C68))))","v":1.2450647600692477E-3},{"$f":"IF(ISBLANK($G69),\"\",$G69*1000)","v":1.2450647600692477},{"$f":"IF(ISBLANK($H69),\"\",$H69-$H68)","v":-0.16305326575172252},{"$f":"SUM($H$3:$H69)","v":101.18408759743988},"2023-04-10T08:26:52",8,26,52,{"$f":"($L69*3600+$M69*60+$N69)-($L68*3600+$M68*60+$N68)","v":1},{"$f":"IF(ISBLANK($O69),\"\",SUM($O$3:$O69))","v":66},{"$f":"$H69/$O69","v":1.2450647600692477},-0.16305326575172252,{"$f":"ROUND(IF(ISBLANK($B69),\"\",(71.5*($C69-$C68))*1000),2)","v":-1.1100000000000001},{"$f":"ROUND(IF(ISBLANK($C69),\"\",(111.3*($B69-$B68))*1000),2)","v":0.57999999999999996},-2.4624600000215935,1.7140200002593531]
[68,50.252541100000002,9.2903426800000002,201.13,3.9999999999992042E-2,-0.18999999999999773,1.0399640833851365E-3,1.0399640833851365,-0.20510067668411125,{"$f":"SUM($H$3:$H70)","v":102.22405168082503},"2023-04-10T08:26:53",8,26,53,1,{"$f":"IF(ISBLANK($O70),\"\",SUM($O$3:$O70))","v":67},1.0399640833851365,{"$f":"($Q70-$Q69)/$O70","v":-0.20510067668411125},-1.03,0.16,-3.4942050000381641,1.8698400004986127]
[69,50.252543289999998,9.2903356200000005,201.17,3.9999999999992042E-2,-0.15000000000000568,5.6961178779602051E-4,0.56961178779602051,-0.47035229558911595,{"$f":"SUM($H$3:$H71)","v":102.79366346862105},"2023-04-10T08:26:54",8,26,54,1,{"$f":"IF(ISBLANK($O71),\"\",SUM($O$3:$O71))","v":68},0.56961178779602051,-0.47035229558911595,-0.5,0.24,-3.9989950000185459,2.1135870001046442]

{"sheet":"vVektor","index":1,"n_rows":27,"n_cols":5,"rows_kept":27,"cut":false,"hidden":false,"merged":[]}
["Bezeichnung","xstart","xend","ystart","yend"]
["V1",{"$f":"Mittelwerte!E9","v":-0.41487875006640529},{"$f":"Mittelwerte!E9+Mittelwerte!G9","v":-0.41487875006640529},{"$f":"Mittelwerte!F9","v":0.4463130003520277},{"$f":"Mittelwerte!F9+Mittelwerte!H9","v":0.4463130003520277}]
["V2",{"$f":"Mittelwerte!E10","v":-5.9486212500610147},{"$f":"Mittelwerte!E10+Mittelwerte!G10","v":-11.991086250059734},{"$f":"Mittelwerte!F10","v":2.4708600004046843},{"$f":"Mittelwerte!F10+Mittelwerte!H10","v":2.8243766252950664}]
["V3",{"$f":"Mittelwerte!E11","v":-12.499808750063846},{"$f":"Mittelwerte!E11+Mittelwerte!G11","v":-18.281209375053621},{"$f":"Mittelwerte!F11","v":1.1533462501327918},{"$f":"Mittelwerte!F11+Mittelwerte!H11","v":-1.2773066249107679}]
["V4",{"$f":"Mittelwerte!E12","v":-17.511422500040563},{"$f":"Mittelwerte!E12+Mittelwerte!G12","v":-21.702841875024802},{"$f":"Mittelwerte!F12","v":-2.390445749682435},{"$f":"Mittelwerte!F12+Mittelwerte!H12","v":-6.5981422496641073}]
["V5",{"$f":"Mittelwerte!E13","v":-20.882647500032327},{"$f":"Mittelwerte!E13+Mittelwerte!G13","v":-23.252693750044021},{"$f":"Mittelwerte!F13","v":-7.262046749830553},{"$f":"Mittelwerte!F13+Mittelwerte!H13","v":-12.679017749827537}]
["V6",{"$f":"Mittelwerte!E14","v":-22.25151500006395},{"$f":"Mittelwerte!E14+Mittelwerte!G14","v":-22.152130000064663},{"$f":"Mittelwerte!F14","v":-13.224387749676403},{"$f":"Mittelwerte!F14+Mittelwerte!H14","v":-19.249056749637727}]
["V7",{"$f":"Mittelwerte!E15","v":-20.683877500033752},{"$f":"Mittelwerte!E15+Mittelwerte!G15","v":-18.069211875040178},{"$f":"Mittelwerte!F15","v":-19.311384749753202},{"$f":"Mittelwerte!F15+Mittelwerte!H15","v":-24.984206624764571}]
["V8",{"$f":"Mittelwerte!E16","v":-17.022183750076803},{"$f":"Mittelwerte!E16+Mittelwerte!G16","v":-12.581229375084991},{"$f":"Mittelwerte!F16","v":-24.570031499699141},{"$f":"Mittelwerte!F16+Mittelwerte!H16","v":-28.944121499707531}]
["V9",{"$f":"Mittelwerte!E17","v":-11.801968750050129},{"$f":"Mittelwerte!E17+Mittelwerte!G17","v":-6.2058425000377504},{"$f":"Mittelwerte!F17","v":-28.059564749769983},{"$f":"Mittelwerte!F17+Mittelwerte!H17","v":-30.410081624806296}]
["V10",{"$f":"Mittelwerte!E18","v":-5.829931250052045},{"$f":"Mittelwerte!E18+Mittelwerte!G18","v":3.6018124947800878E-2},{"$f":"Mittelwerte!F18","v":-29.271065249771766},{"$f":"Mittelwerte!F18+Mittelwerte!H18","v":-29.198859374728681}]
["V11",{"$f":"Mittelwerte!E19","v":-7.0070000050437287E-2},{"$f":"Mittelwerte!E19+Mittelwerte!G19","v":5.1948324999427919},{"$f":"Mittelwerte!F19","v":-27.915152999683812},{"$f":"Mittelwerte!F19+Mittelwerte!H19","v":-25.304333249561317}]
["V12",{"$f":"Mittelwerte!E20","v":4.6998737499344134},{"$f":"Mittelwerte!E20+Mittelwerte!G20","v":8.6319268749232023},{"$f":"Mittelwerte!F20","v":-24.049425749526776},{"$f":"Mittelwerte!F20+Mittelwerte!H20","v":-19.350200624603797}]
["V13",{"$f":"Mittelwerte!E21","v":7.7940362499271387},{"$f":"Mittelwerte!E21+Mittelwerte!G21","v":9.7308818749440853},{"$f":"Mittelwerte!F21","v":-18.516702749837854},{"$f":"Mittelwerte!F21+Mittelwerte!H21","v":-12.760405874938385}]
["V14",{"$f":"Mittelwerte!E22","v":8.5735649999683083},{"$f":"Mittelwerte!E22+Mittelwerte!G22","v":8.1695006249711266},{"$f":"Mittelwerte!F22","v":-12.536831999727838},{"$f":"Mittelwerte!F22+Mittelwerte!H22","v":-6.5686477496950779}]
["V15",{"$f":"Mittelwerte!E23","v":6.9859074999327753},{"$f":"Mittelwerte!E23+Mittelwerte!G23","v":4.277934374918857},{"$f":"Mittelwerte!F23","v":-6.5803342497723349},{"$f":"Mittelwerte!F23+Mittelwerte!H23","v":-1.0953311247810404}]
["V16",{"$f":"Mittelwerte!E24","v":3.1576187499404718},{"$f":"Mittelwerte!E24+Mittelwerte!G24","v":-1.2524118750487645},{"$f":"Mittelwerte!F24","v":-1.5668257497452487},{"$f":"Mittelwerte!F24+Mittelwerte!H24","v":2.3894718753926902}]
["V17",{"$f":"Mittelwerte!E25","v":-1.8341537500456973},{"$f":"Mittelwerte!E25+Mittelwerte!G25","v":-4.4127118750205696},{"$f":"Mittelwerte!F25","v":1.3322610005035429},{"$f":"Mittelwerte!F25+Mittelwerte!H25","v":2.6440706254023283}]
["V18"]
["V19"]
["V20"]
["V21"]
["V22"]
["V23"]
["V24"]
["V25"]
["V26"]

{"sheet":"aVektor","index":2,"n_rows":36,"n_cols":5,"rows_kept":36,"cut":false,"hidden":false,"merged":[]}
["Bezeichnung","xstart","xend","ystart","yend"]
["A1",{"$f":"Mittelwerte!E9","v":-0.41487875006640529},{"$f":"Mittelwerte!E9+Mittelwerte!I9*2","v":-0.41487875006640529},{"$f":"Mittelwerte!F9","v":0.4463130003520277},{"$f":"Mittelwerte!F9+Mittelwerte!J9*2","v":0.4463130003520277}]
["A2",{"$f":"Mittelwerte!E10","v":-5.9486212500610147},{"$f":"Mittelwerte!E10+Mittelwerte!I10*2","v":-5.9486212500610147},{"$f":"Mittelwerte!F10","v":2.4708600004046843},{"$f":"Mittelwerte!F10+Mittelwerte!J10*2","v":2.4708600004046843}]
["A3",{"$f":"Mittelwerte!E11","v":-12.499808750063846},{"$f":"Mittelwerte!E11+Mittelwerte!I11*2","v":-10.648763125049367},{"$f":"Mittelwerte!F11","v":1.1533462501327918},{"$f":"Mittelwerte!F11+Mittelwerte!J11*2","v":-3.4078668747392626}]
["A4",{"$f":"Mittelwerte!E12","v":-17.511422500040563},{"$f":"Mittelwerte!E12+Mittelwerte!I12*2","v":-14.100068125062482},{"$f":"Mittelwerte!F12","v":-2.390445749682435},{"$f":"Mittelwerte!F12+Mittelwerte!J12*2","v":-5.3767638746358593}]
["A5",{"$f":"Mittelwerte!E13","v":-20.882647500032327},{"$f":"Mittelwerte!E13+Mittelwerte!I13*2","v":-16.591843125048797},{"$f":"Mittelwerte!F13","v":-7.262046749830553},{"$f":"Mittelwerte!F13+Mittelwerte!J13*2","v":-9.0790192498102051}]
["A6",{"$f":"Mittelwerte!E14","v":-22.25151500006395},{"$f":"Mittelwerte!E14+Mittelwerte!I14*2","v":-17.266803125058683},{"$f":"Mittelwerte!F14","v":-13.224387749676403},{"$f":"Mittelwerte!F14+Mittelwerte!J14*2","v":-13.480238624690788}]
["A7",{"$f":"Mittelwerte!E15","v":-20.683877500033752},{"$f":"Mittelwerte!E15+Mittelwerte!I15*2","v":-16.342308125041228},{"$f":"Mittelwerte!F15","v":-19.311384749753202},{"$f":"Mittelwerte!F15+Mittelwerte!J15*2","v":-17.660805749800268}]
["A8",{"$f":"Mittelwerte!E16","v":-17.022183750076803},{"$f":"Mittelwerte!E16+Mittelwerte!I16*2","v":-14.040723125057998},{"$f":"Mittelwerte!F16","v":-24.570031499699141},{"$f":"Mittelwerte!F16+Mittelwerte!J16*2","v":-21.247726499724084}]
["A9",{"$f":"Mittelwerte!E17","v":-11.801968750050129},{"$f":"Mittelwerte!E17+Mittelwerte!I17*2","v":-10.376973750042094},{"$f":"Mittelwerte!F17","v":-28.059564749769983},{"$f":"Mittelwerte!F17+Mittelwerte!J17*2","v":-23.613268874718507}]
["A10",{"$f":"Mittelwerte!E18","v":-5.829931250052045},{"$f":"Mittelwerte!E18+Mittelwerte!I18*2","v":-6.1611550000711945},{"$f":"Mittelwerte!F18","v":-29.271065249771766},{"$f":"Mittelwerte!F18+Mittelwerte!J18*2","v":-24.309728624612958}]
["A11",{"$f":"Mittelwerte!E19","v":-7.0070000050437287E-2},{"$f":"Mittelwerte!E19+Mittelwerte!I19*2","v":-2.0039662500614952},{"$f":"Mittelwerte!F19","v":-27.915152999683812},{"$f":"Mittelwerte!F19+Mittelwerte!J19*2","v":-23.288133749803919}]
["A12",{"$f":"Mittelwerte!E20","v":4.6998737499344134},{"$f":"Mittelwerte!E20+Mittelwerte!I20*2","v":1.3718168749581316},{"$f":"Mittelwerte!F20","v":-24.049425749526776},{"$f":"Mittelwerte!F20+Mittelwerte!J20*2","v":-20.903948624749802}]
["A13",{"$f":"Mittelwerte!E21","v":7.7940362499271387},{"$f":"Mittelwerte!E21+Mittelwerte!I21*2","v":3.457918749941169},{"$f":"Mittelwerte!F21","v":-18.516702749837854},{"$f":"Mittelwerte!F21+Mittelwerte!J21*2","v":-17.247743624728074}]
["A14",{"$f":"Mittelwerte!E22","v":8.5735649999683083},{"$f":"Mittelwerte!E22+Mittelwerte!I22*2","v":3.9287462499374426},{"$f":"Mittelwerte!F22","v":-12.536831999727838},{"$f":"Mittelwerte!F22+Mittelwerte!J22*2","v":-12.808125749636012}]
["A15",{"$f":"Mittelwerte!E23","v":6.9859074999327753},{"$f":"Mittelwerte!E23+Mittelwerte!I23*2","v":2.9799412499407207},{"$f":"Mittelwerte!F23","v":-6.5803342497723349},{"$f":"Mittelwerte!F23+Mittelwerte!J23*2","v":-8.5922208746671558}]
["A16",{"$f":"Mittelwerte!E24","v":3.1576187499404718},{"$f":"Mittelwerte!E24+Mittelwerte!I24*2","v":3.2870337499795177},{"$f":"Mittelwerte!F24","v":-1.5668257497452487},{"$f":"Mittelwerte!F24+Mittelwerte!J24*2","v":-5.7400192498377578}]
["A17",{"$f":"Mittelwerte!E25","v":-1.8341537500456973},{"$f":"Mittelwerte!E25+Mittelwerte!I25*2","v":-1.8341537500456973},{"$f":"Mittelwerte!F25","v":1.3322610005035429},{"$f":"Mittelwerte!F25+Mittelwerte!J25*2","v":1.3322610005035429}]
["A18"]
["A19"]
["A20"]
["A21"]
["A22"]
["A23"]
["A24"]
["A25"]
["A26"]
["A27"]
["A28"]
["A29"]
["A30"]
["A31"]
["A32"]
["A33"]
["A34"]
["A35"]

{"sheet":"Mittelwerte","index":3,"n_rows":78,"n_cols":10,"rows_kept":78,"cut":false,"hidden":false,"merged":[]}
["Berechnung von Mittelwerten in Excel"]
["1. Daten in die Tabelle einfügen (Werte Direkt unter der Überschrift (Bezeichung) einfügen)"]
["2. Auswählen, über welche Anzahl der Mittelwert gebildet werden soll."]
["3. Bereich in der Fomel anpassen. Der einzutragene Bereich befindet sich über der Tabelle jeweils als Datenbereich 1 und Datenbereich 2."]
[null,"Datenbereich 1","Datenbereich 2"]
[null,{"$f":"\"$B$9:$B$\"&9+$C$7-1","v":"$B$9:$B$12"},{"$f":"\"$C$9:$C$\"&9+$C$7-1","v":"$C$9:$C$12"}]
[null,"Mittelwert x und y über:",4]
[null,"Ort x in m","Ort y in m",null,"Ort x in m","Ort y in m","vx in m/s","vy in m/s","ax in m/s²","ay in m/s²"]
[{"$f":"ROW(A9)-8","v":1},0,0,null,{"$f":"AVERAGE(OFFSET($B$9:$B$12,ROW()*$C$7-9*$C$7,))","v":-0.41487875006640529},{"$f":"AVERAGE(OFFSET($C$9:$C$12,ROW()*$C$7-9*$C$7,))","v":0.4463130003520277}]
[{"$f":"ROW(A10)-8","v":2},{"$f":"Messwerte!U4","v":5.7199999906387688E-2},{"$f":"Messwerte!V4","v":-2.448599965347853E-2},null,{"$f":"AVERAGE(OFFSET($B$9:$B$12,ROW()*$C$7-9*$C$7,))","v":-5.9486212500610147},{"$f":"AVERAGE(OFFSET($C$9:$C$12,ROW()*$C$7-9*$C$7,))","v":2.4708600004046843},{"$f":"(E11-E9)/2*Messwerte!$O4","v":-6.0424649999987201},{"$f":"(F11-F9)/2*Messwerte!$O4","v":0.35351662489038205}]
[3,{"$f":"Messwerte!U5","v":-0.34034000009075527},{"$f":"Messwerte!V5","v":0.52311000057727597},null,-12.499808750063846,1.1533462501327918,{"$f":"(E12-E10)/2*Messwerte!$O5","v":-5.7814006249897743},{"$f":"(F12-F10)/2*Messwerte!$O5","v":-2.4306528750435596},{"$f":"(G12-G10)/2*Messwerte!$O5","v":0.92552281250723967},{"$f":"(H12-H10)/2*Messwerte!$O5","v":-2.2806065624360272}]
[4,{"$f":"Messwerte!U6","v":-1.3763750000812536},{"$f":"Messwerte!V6","v":1.2866280004843134},null,-17.511422500040563,-2.390445749682435,{"$f":"(E13-E11)/2*Messwerte!$O6","v":-4.1914193749842408},{"$f":"(F13-F11)/2*Messwerte!$O6","v":-4.2076964999816724},{"$f":"(G13-G11)/2*Messwerte!$O6","v":1.7056771874890404},{"$f":"(H13-H11)/2*Messwerte!$O6","v":-1.4931590624767122}]
[5,{"$f":"Messwerte!U7","v":-3.1824650000276122},{"$f":"Messwerte!V7","v":1.9956090006239435},null,-20.882647500032327,-7.262046749830553,{"$f":"(E14-E12)/2*Messwerte!$O7","v":-2.3700462500116934},{"$f":"(F14-F12)/2*Messwerte!$O7","v":-5.4169709999969839},{"$f":"(G14-G12)/2*Messwerte!$O7","v":2.1454021874917641},{"$f":"(H14-H12)/2*Messwerte!$O7","v":-0.90848624998982608}]
[6,{"$f":"Messwerte!U8","v":-5.1015250000494561},{"$f":"Messwerte!V8","v":2.719059000379076},null,-22.25151500006395,-13.224387749676403,{"$f":"(E15-E13)/2*Messwerte!$O8","v":9.9384999999287515E-2},{"$f":"(F15-F13)/2*Messwerte!$O8","v":-6.0246689999613245},{"$f":"(G15-G13)/2*Messwerte!$O8","v":2.4923559375026336},{"$f":"(H15-H13)/2*Messwerte!$O8","v":-0.12792543750719254}]
[7,{"$f":"Messwerte!U9","v":-7.0341700000522422},{"$f":"Messwerte!V9","v":2.7123810006173699},null,-20.683877500033752,-19.311384749753202,{"$f":"(E16-E14)/2*Messwerte!$O9","v":2.6146656249935738},{"$f":"(F16-F14)/2*Messwerte!$O9","v":-5.672821875011369},{"$f":"(G16-G14)/2*Messwerte!$O9","v":2.170784687496262},{"$f":"(H16-H14)/2*Messwerte!$O9","v":0.82528949997646706}]
[8,{"$f":"Messwerte!U10","v":-8.4763250001147483},{"$f":"Messwerte!V10","v":2.456390999998348},null,-17.022183750076803,-24.570031499699141,{"$f":"(E17-E15)/2*Messwerte!$O10","v":4.4409543749918114},{"$f":"(F17-F15)/2*Messwerte!$O10","v":-4.3740900000083904},{"$f":"(G17-G15)/2*Messwerte!$O10","v":1.4907303125094025},{"$f":"(H17-H15)/2*Messwerte!$O10","v":1.6611524999875282}]
[9,{"$f":"Messwerte!U11","v":-10.296715000101209},{"$f":"Messwerte!V11","v":2.1236040001426204},null,-11.801968750050129,-28.059564749769983,{"$f":"(E18-E16)/2*Messwerte!$O11","v":5.5961262500123787},{"$f":"(F18-F16)/2*Messwerte!$O11","v":-2.3505168750363126},{"$f":"(G18-G16)/2*Messwerte!$O11","v":0.71249750000401724},{"$f":"(H18-H16)/2*Messwerte!$O11","v":2.2231479375257379}]
[10,{"$f":"Messwerte!U12","v":-11.95766000010412},{"$f":"Messwerte!V12","v":1.2999840000077256},null,-5.829931250052045,-29.271065249771766,{"$f":"(E19-E17)/2*Messwerte!$O12","v":5.8659493749998459},{"$f":"(F19-F17)/2*Messwerte!$O12","v":7.2205875043085399E-2},{"$f":"(G19-G17)/2*Messwerte!$O12","v":-0.16561187500957475},{"$f":"(H19-H17)/2*Messwerte!$O12","v":2.4806683125794038}]
[11,{"$f":"Messwerte!U13","v":-13.223210000033347},{"$f":"Messwerte!V13","v":0.85478400034091351},null,-7.0070000050437287E-2,-27.915152999683812,{"$f":"(E20-E18)/2*Messwerte!$O13","v":5.2649024999932292},{"$f":"(F20-F18)/2*Messwerte!$O13","v":2.610819750122495},{"$f":"(G20-G18)/2*Messwerte!$O13","v":-0.96694812500552896},{"$f":"(H20-H18)/2*Messwerte!$O13","v":2.3135096249399467}]
[12,{"$f":"Messwerte!U14","v":-14.521650000016706},{"$f":"Messwerte!V14","v":0.33501300003990764},null,4.6998737499344134,-24.049425749526776,{"$f":"(E21-E19)/2*Messwerte!$O14","v":3.932053124988788},{"$f":"(F21-F19)/2*Messwerte!$O14","v":4.6992251249229788},{"$f":"(G21-G19)/2*Messwerte!$O14","v":-1.6640284374881409},{"$f":"(H21-H19)/2*Messwerte!$O14","v":1.5727385623884871}]
[13,{"$f":"Messwerte!U15","v":-15.817230000017446},{"$f":"Messwerte!V15","v":-0.83697599965830705},null,7.7940362499271387,-18.516702749837854,{"$f":"(E22-E20)/2*Messwerte!$O15","v":1.9368456250169475},{"$f":"(F22-F20)/2*Messwerte!$O15","v":5.7562968748994692},{"$f":"(G22-G20)/2*Messwerte!$O15","v":-2.1680587499929849},{"$f":"(H22-H20)/2*Messwerte!$O15","v":0.63447956255489046}]
[14,{"$f":"Messwerte!U16","v":-17.116385000059964},{"$f":"Messwerte!V16","v":-1.8208679996099875},null,8.5735649999683083,-12.536831999727838,{"$f":"(E23-E21)/2*Messwerte!$O16","v":-0.40406437499718173},{"$f":"(F23-F21)/2*Messwerte!$O16","v":5.9681842500327598},{"$f":"(G23-G21)/2*Messwerte!$O16","v":-2.3224093750154329},{"$f":"(H23-H21)/2*Messwerte!$O16","v":-0.13564687495408734}]
[15,{"$f":"Messwerte!U17","v":-18.045170000067223},{"$f":"Messwerte!V17","v":-2.9104949996110463},null,6.9859074999327753,-6.5803342497723349,{"$f":"(E24-E22)/2*Messwerte!$O17","v":-2.7079731250139183},{"$f":"(F24-F22)/2*Messwerte!$O17","v":5.4850031249912945},{"$f":"(G24-G22)/2*Messwerte!$O17","v":-2.0029831249960273},{"$f":"(H24-H22)/2*Messwerte!$O17","v":-1.0059433124474104}]
[16,{"$f":"Messwerte!U18","v":-19.06690500001762},{"$f":"Messwerte!V18","v":-3.993443999850399},null,3.1576187499404718,-1.5668257497452487,{"$f":"(E25-E23)/2*Messwerte!$O18","v":-4.4100306249892363},{"$f":"(F25-F23)/2*Messwerte!$O18","v":3.9562976251379389},{"$f":"(G25-G23)/2*Messwerte!$O18","v":6.4707500019522968E-2},{"$f":"(H25-H23)/2*Messwerte!$O18","v":-2.0865967500462546}]
[17,{"$f":"Messwerte!U19","v":-19.991400000050952},{"$f":"Messwerte!V19","v":-5.1843539995324761},null,-1.8341537500456973,1.3322610005035429,{"$f":"(E26-E24)/2*Messwerte!$O19","v":-2.5785581249748724},{"$f":"(F26-F24)/2*Messwerte!$O19","v":1.3118096248987854}]
[18,{"$f":"Messwerte!U20","v":-20.603440000014572},{"$f":"Messwerte!V20","v":-6.3518909996531647},null,-1.999497500009273,1.0567935000523221]
[19,{"$f":"Messwerte!U21","v":-21.268390000037662},{"$f":"Messwerte!V21","v":-8.0202780000909968}]
[20,{"$f":"Messwerte!U22","v":-21.667360000026115},{"$f":"Messwerte!V22","v":-9.4916640000455743}]
[21,{"$f":"Messwerte!U23","v":-22.18216000007267},{"$f":"Messwerte!V23","v":-10.920755999664067}]
[22,{"$f":"Messwerte!U24","v":-22.41024500002009},{"$f":"Messwerte!V24","v":-12.456695999424028}]
[23,{"$f":"Messwerte!U25","v":-22.507485000064165},{"$f":"Messwerte!V25","v":-13.992635999974823}]
[24,{"$f":"Messwerte!U26","v":-21.906170000098868},{"$f":"Messwerte!V26","v":-15.527462999642694}]
[25,{"$f":"Messwerte!U27","v":-21.563685000084654},{"$f":"Messwerte!V27","v":-17.194736999988436}]
[26,{"$f":"Messwerte!U28","v":-21.082490000024379},{"$f":"Messwerte!V28","v":-18.678365999374336}]
[27,{"$f":"Messwerte!U29","v":-20.386794999997626},{"$f":"Messwerte!V29","v":-19.962767999674469}]
[28,{"$f":"Messwerte!U30","v":-19.702540000028357},{"$f":"Messwerte!V30","v":-21.409667999975568}]
[29,{"$f":"Messwerte!U31","v":-18.755165000007068},{"$f":"Messwerte!V31","v":-22.681827000053545}]
[30,{"$f":"Messwerte!U32","v":-17.672655000108506},{"$f":"Messwerte!V32","v":-23.978471999785}]
[31,{"$f":"Messwerte!U33","v":-16.484325000091005},{"$f":"Messwerte!V33","v":-25.284020999462342}]
[32,{"$f":"Messwerte!U34","v":-15.176590000100632},{"$f":"Messwerte!V34","v":-26.335805999495676}]
[33,{"$f":"Messwerte!U35","v":-13.835965000056127},{"$f":"Messwerte!V35","v":-27.004718999483401}]
[34,{"$f":"Messwerte!U36","v":-12.457445000051415},{"$f":"Messwerte!V36","v":-27.704795999677145}]
[35,{"$f":"Messwerte!U37","v":-11.168300000075071},{"$f":"Messwerte!V37","v":-28.539545999942106}]
[36,{"$f":"Messwerte!U38","v":-9.7461650000179034},{"$f":"Messwerte!V38","v":-28.989197999977279}]
[37,{"$f":"Messwerte!U39","v":-8.1595800000711094},{"$f":"Messwerte!V39","v":-29.178407999815903}]
[38,{"$f":"Messwerte!U40","v":-6.6144649999992922},{"$f":"Messwerte!V40","v":-29.317532999464646}]
[39,{"$f":"Messwerte!U41","v":-5.071495000104953},{"$f":"Messwerte!V41","v":-29.362052999984911}]
[40,{"$f":"Messwerte!U42","v":-3.4741850000328256},{"$f":"Messwerte!V42","v":-29.226266999821604}]
[41,{"$f":"Messwerte!U43","v":-2.1399950000127177},{"$f":"Messwerte!V43","v":-28.807778999992451}]
[42,{"$f":"Messwerte!U44","v":-0.68854500007020647},{"$f":"Messwerte!V44","v":-28.361465999442714}]
[43,{"$f":"Messwerte!U45","v":0.64135499997597378},{"$f":"Messwerte!V45","v":-27.697004999823349}]
[44,{"$f":"Messwerte!U46","v":1.9069049999052012},{"$f":"Messwerte!V46","v":-26.794361999476735}]
[45,{"$f":"Messwerte!U47","v":3.1459999999317034},{"$f":"Messwerte!V47","v":-25.859441999622845}]
[46,{"$f":"Messwerte!U48","v":4.1741699999064963},{"$f":"Messwerte!V48","v":-24.701921999540133}]
[47,{"$f":"Messwerte!U49","v":5.3210299999220112},{"$f":"Messwerte!V49","v":-23.497655999543809}]
[48,{"$f":"Messwerte!U50","v":6.1582949999774428},{"$f":"Messwerte!V50","v":-22.138682999400316}]
[49,{"$f":"Messwerte!U51","v":6.9769699998918355},{"$f":"Messwerte!V51","v":-20.729624999857776}]
[50,{"$f":"Messwerte!U52","v":7.6805299999342935},{"$f":"Messwerte!V52","v":-19.263803999572815}]
[51,{"$f":"Messwerte!U53","v":8.0823599999053641},{"$f":"Messwerte!V53","v":-17.786852999948621}]
[52,{"$f":"Messwerte!U54","v":8.4362849999770617},{"$f":"Messwerte!V54","v":-16.286528999972205}]
[53,{"$f":"Messwerte!U55","v":8.6843899999298202},{"$f":"Messwerte!V55","v":-14.864114999324585}]
[54,{"$f":"Messwerte!U56","v":8.7022650000116997},{"$f":"Messwerte!V56","v":-13.304802000003235}]
[55,{"$f":"Messwerte!U57","v":8.5492549999255374},{"$f":"Messwerte!V57","v":-11.741036999522692}]
[56,{"$f":"Messwerte!U58","v":8.3583500000061761},{"$f":"Messwerte!V58","v":-10.237374000060839}]
[57,{"$f":"Messwerte!U59","v":7.9486549998923905},{"$f":"Messwerte!V59","v":-8.7626489998299917}]
[58,{"$f":"Messwerte!U60","v":7.4238449999066702},{"$f":"Messwerte!V60","v":-7.3402349999732053}]
[59,{"$f":"Messwerte!U61","v":6.6952599999527962},{"$f":"Messwerte!V61","v":-5.8343459995363389}]
[60,{"$f":"Messwerte!U62","v":5.8758699999792441},{"$f":"Messwerte!V62","v":-4.3841069997498039}]
[61,{"$f":"Messwerte!U63","v":4.892029999989056},{"$f":"Messwerte!V63","v":-3.1453380000620257}]
[62,{"$f":"Messwerte!U64","v":3.8109499999547936},{"$f":"Messwerte!V64","v":-1.9911569994647493}]
[63,{"$f":"Messwerte!U65","v":2.6254799999199108},{"$f":"Messwerte!V65","v":-0.98834399952920649}]
[64,{"$f":"Messwerte!U66","v":1.3020149998981267},{"$f":"Messwerte!V66","v":-0.14246399992501324}]
[65,{"$f":"Messwerte!U67","v":-3.1460000062821791E-2},{"$f":"Messwerte!V67","v":0.60992400064279195}]
[{"$f":"ROW(A74)-8","v":66},{"$f":"Messwerte!U68","v":-1.3484900000602096},{"$f":"Messwerte!V68","v":1.1352600006134139}]
[67,{"$f":"Messwerte!U69","v":-2.4624600000215935},{"$f":"Messwerte!V69","v":1.7140200002593531}]
[68,{"$f":"Messwerte!U70","v":-3.4942050000381641},{"$f":"Messwerte!V70","v":1.8698400004986127}]
[69,{"$f":"Messwerte!U71","v":-3.9989950000185459},{"$f":"Messwerte!V71","v":2.1135870001046442}]
[70,{"$f":"Messwerte!U72","v":0},{"$f":"Messwerte!V72","v":0}]

{"sheet":"t-v-Diagramm","index":4,"n_rows":71,"n_cols":3,"rows_kept":71,"cut":false,"hidden":false,"merged":[]}
["t-v-Diagramm"]
["Messung 1"]
["Nummer","Zeit in s","Tempo in m/s"]
[1,{"$f":"Messwerte!P3","v":0},{"$f":"Messwerte!Q3","v":0}]
[2,{"$f":"Messwerte!P4","v":1},{"$f":"Messwerte!Q4","v":0}]
[3,{"$f":"Messwerte!P5","v":2},{"$f":"Messwerte!Q5","v":0.67129392948572786}]
[4,{"$f":"Messwerte!P6","v":3},{"$f":"Messwerte!Q6","v":1.2807471897939848}]
[5,{"$f":"Messwerte!P7","v":4},{"$f":"Messwerte!Q7","v":1.9269760886857501}]
[6,{"$f":"Messwerte!P8","v":5},{"$f":"Messwerte!Q8","v":2.040556881622857}]
[7,{"$f":"Messwerte!P9","v":6},{"$f":"Messwerte!Q9","v":1.9222932731508546}]
[8,{"$f":"Messwerte!P10","v":7},{"$f":"Messwerte!Q10","v":1.4553305589268817}]
[9,{"$f":"Messwerte!P11","v":8},{"$f":"Messwerte!Q11","v":1.8408637267348649}]
[10,{"$f":"Messwerte!P12","v":9},{"$f":"Messwerte!Q12","v":1.8457531471001154}]
[11,{"$f":"Messwerte!P13","v":10},{"$f":"Messwerte!Q13","v":1.3358580532463193}]
[12,{"$f":"Messwerte!P14","v":11},{"$f":"Messwerte!Q14","v":1.3952582314233908}]
[13,{"$f":"Messwerte!P15","v":12},{"$f":"Messwerte!Q15","v":1.7401927557427754}]
[14,{"$f":"Messwerte!P16","v":13},{"$f":"Messwerte!Q16","v":1.6222550817501791}]
[15,{"$f":"Messwerte!P17","v":14},{"$f":"Messwerte!Q17","v":1.4271904709111105}]
[16,{"$f":"Messwerte!P18","v":15},{"$f":"Messwerte!Q18","v":1.4859724571962829}]
[17,{"$f":"Messwerte!P19","v":16},{"$f":"Messwerte!Q19","v":1.501058859409321}]
[18,{"$f":"Messwerte!P20","v":17},{"$f":"Messwerte!Q20","v":1.3188833091679619}]
[19,{"$f":"Messwerte!P21","v":18},{"$f":"Messwerte!Q21","v":1.7912356187916867}]
[20,{"$f":"Messwerte!P22","v":19},{"$f":"Messwerte!Q22","v":1.5189647674560547}]
[21,{"$f":"Messwerte!P23","v":20},{"$f":"Messwerte!Q23","v":1.5130196772830118}]
[22,{"$f":"Messwerte!P24","v":21},{"$f":"Messwerte!Q24","v":1.548347852726506}]
[23,{"$f":"Messwerte!P25","v":22},{"$f":"Messwerte!Q25","v":1.5366620406551679}]
[24,{"$f":"Messwerte!P26","v":23},{"$f":"Messwerte!Q26","v":1.6443275952828795}]
[25,{"$f":"Messwerte!P27","v":24},{"$f":"Messwerte!Q27","v":1.6982542371999365}]
[26,{"$f":"Messwerte!P28","v":25},{"$f":"Messwerte!Q28","v":1.5599461250777047}]
[27,{"$f":"Messwerte!P29","v":26},{"$f":"Messwerte!Q29","v":1.4584237195758298}]
[28,{"$f":"Messwerte!P30","v":27},{"$f":"Messwerte!Q30","v":1.5998780783594846}]
[29,{"$f":"Messwerte!P31","v":28},{"$f":"Messwerte!Q31","v":1.5828877406363073}]
[30,{"$f":"Messwerte!P32","v":29},{"$f":"Messwerte!Q32","v":1.6849343899627556}]
[31,{"$f":"Messwerte!P33","v":30},{"$f":"Messwerte!Q33","v":1.7607874704628212}]
[32,{"$f":"Messwerte!P34","v":31},{"$f":"Messwerte!Q34","v":1.6715084046521334}]
[33,{"$f":"Messwerte!P35","v":32},{"$f":"Messwerte!Q35","v":1.489001965840453}]
[34,{"$f":"Messwerte!P36","v":33},{"$f":"Messwerte!Q36","v":1.5395918096705596}]
[35,{"$f":"Messwerte!P37","v":34},{"$f":"Messwerte!Q37","v":1.5307856824813282}]
[36,{"$f":"Messwerte!P38","v":35},{"$f":"Messwerte!Q38","v":1.4829367594750842}]
[37,{"$f":"Messwerte!P39","v":36},{"$f":"Messwerte!Q39","v":1.5914055841541597}]
[38,{"$f":"Messwerte!P40","v":37},{"$f":"Messwerte!Q40","v":1.5425160134678872}]
[39,{"$f":"Messwerte!P41","v":38},{"$f":"Messwerte!Q41","v":1.5366620406551679}]
[40,{"$f":"Messwerte!P42","v":39},{"$f":"Messwerte!Q42","v":1.5942347520212508}]
[41,{"$f":"Messwerte!P43","v":40},{"$f":"Messwerte!Q43","v":1.392024719483187}]
[42,{"$f":"Messwerte!P44","v":41},{"$f":"Messwerte!Q44","v":1.5130196772830118}]
[43,{"$f":"Messwerte!P45","v":42},{"$f":"Messwerte!Q45","v":1.4768466454344598}]
[44,{"$f":"Messwerte!P46","v":43},{"$f":"Messwerte!Q46","v":1.548347852726506}]
[45,{"$f":"Messwerte!P47","v":44},{"$f":"Messwerte!Q47","v":1.5454346831693666}]
[46,{"$f":"Messwerte!P48","v":45},{"$f":"Messwerte!Q48","v":1.5425160134678872}]
[47,{"$f":"Messwerte!P49","v":46},{"$f":"Messwerte!Q49","v":1.6606894665389671}]
[48,{"$f":"Messwerte!P50","v":47},{"$f":"Messwerte!Q50","v":1.5942347520212508}]
[49,{"$f":"Messwerte!P51","v":48},{"$f":"Messwerte!Q51","v":1.6278012699939559}]
[50,{"$f":"Messwerte!P52","v":49},{"$f":"Messwerte!Q52","v":1.6222550817501791}]
[51,{"$f":"Messwerte!P53","v":50},{"$f":"Messwerte!Q53","v":1.5278390282491561}]
[52,{"$f":"Messwerte!P54","v":51},{"$f":"Messwerte!Q54","v":1.5395918096705596}]
[53,{"$f":"Messwerte!P55","v":52},{"$f":"Messwerte!Q55","v":1.4428916090354349}]
[54,{"$f":"Messwerte!P56","v":53},{"$f":"Messwerte!Q56","v":1.5570546561929355}]
[55,{"$f":"Messwerte!P57","v":54},{"$f":"Messwerte!Q57","v":1.5714588000179663}]
[56,{"$f":"Messwerte!P58","v":55},{"$f":"Messwerte!Q58","v":1.5130196772830118}]
[57,{"$f":"Messwerte!P59","v":56},{"$f":"Messwerte!Q59","v":1.5278390282491561}]
[58,{"$f":"Messwerte!P60","v":57},{"$f":"Messwerte!Q60","v":1.5130196772830118}]
[59,{"$f":"Messwerte!P61","v":58},{"$f":"Messwerte!Q61","v":1.6715084046521334}]
[60,{"$f":"Messwerte!P62","v":59},{"$f":"Messwerte!Q62","v":1.663400797208725}]
[61,{"$f":"Messwerte!P63","v":60},{"$f":"Messwerte!Q63","v":1.5771836227078673}]
[62,{"$f":"Messwerte!P64","v":61},{"$f":"Messwerte!Q64","v":1.5771836227078673}]
[63,{"$f":"Messwerte!P65","v":62},{"$f":"Messwerte!Q65","v":1.548347852726506}]
[64,{"$f":"Messwerte!P66","v":63},{"$f":"Messwerte!Q66","v":1.5657130433939237}]
[65,{"$f":"Messwerte!P67","v":64},{"$f":"Messwerte!Q67","v":1.5248866800661176}]
[66,{"$f":"Messwerte!P68","v":65},{"$f":"Messwerte!Q68","v":1.4081180258209702}]
[67,{"$f":"Messwerte!P69","v":66},{"$f":"Messwerte!Q69","v":1.2450647600692477}]
[68,{"$f":"Messwerte!P70","v":67},{"$f":"Messwerte!Q70","v":1.0399640833851365}]